BEGIN:VCALENDAR
VERSION:2.0
BEGIN:VEVENT
DTSTART;TZID=Europe/Stockholm:20250512T170000
DTEND;TZID=Europe/Stockholm:20250512T180000
DTSTAMP:20260420T160924
DESCRIPTION:
SEQUENCE:0
SUMMARY:Grupp för gudstjänstens utformning
UID:5757@lawebb.se
END:VEVENT
END:VCALENDAR