BEGIN:VCALENDAR
VERSION:2.0
BEGIN:VEVENT
DTSTART;TZID=Europe/Stockholm:20250226T090000
DTEND;TZID=Europe/Stockholm:20250226T100000
DTSTAMP:20260420T105954
DESCRIPTION:
SEQUENCE:0
SUMMARY:Öppet hus 9-12
UID:3288@lawebb.se
END:VEVENT
END:VCALENDARBEGIN:VCALENDAR
VERSION:2.0
BEGIN:VEVENT
DTSTART;TZID=Europe/Stockholm:20250514T090000
DTEND;TZID=Europe/Stockholm:20250514T100000
DTSTAMP:20260420T160734
DESCRIPTION:
SEQUENCE:0
SUMMARY:Öppet hus 9-12
UID:4524@lawebb.se
END:VEVENT
END:VCALENDAR