BEGIN:VCALENDAR
VERSION:2.0
BEGIN:VEVENT
DTSTART;TZID=Europe/Stockholm:20250516T190000
DTEND;TZID=Europe/Stockholm:20250516T200000
DTSTAMP:20260420T160901
DESCRIPTION:
SEQUENCE:0
SUMMARY:Tonår
UID:4273@lawebb.se
END:VEVENT
END:VCALENDAR