BEGIN:VCALENDAR
VERSION:2.0
BEGIN:VEVENT
DTSTART;TZID=Europe/Stockholm:20250517T100000
DTEND;TZID=Europe/Stockholm:20250517T110000
DTSTAMP:20260420T160612
DESCRIPTION:
SEQUENCE:0
SUMMARY:Bibelstudium (i kyrkan)
UID:7869@lawebb.se
END:VEVENT
END:VCALENDAR