BEGIN:VCALENDAR
VERSION:2.0
BEGIN:VEVENT
DTSTART;TZID=Europe/Stockholm:20250517T100000
DTEND;TZID=Europe/Stockholm:20250517T110000
DTSTAMP:20260420T160857
DESCRIPTION:
SEQUENCE:0
SUMMARY:Församlingsrådsdag på Folkhögskolan
UID:6958@lawebb.se
END:VEVENT
END:VCALENDAR