BEGIN:VCALENDAR
VERSION:2.0
BEGIN:VEVENT
DTSTART;TZID=Europe/Stockholm:20250518T160000
DTEND;TZID=Europe/Stockholm:20250518T170000
DTSTAMP:20260420T160820
DESCRIPTION:Ungdomarna ansvarar.
Söndagsskola för de yngre barnen, den äldre guppen är kvar och lyssnar till ungdomarna!
SEQUENCE:0
SUMMARY:Gudstjänst
UID:4283@lawebb.se
END:VEVENT
END:VCALENDAR