BEGIN:VCALENDAR
VERSION:2.0
BEGIN:VEVENT
DTSTART;TZID=Europe/Stockholm:20250520T190000
DTEND;TZID=Europe/Stockholm:20250520T200000
DTSTAMP:20260420T161036
DESCRIPTION:
SEQUENCE:0
SUMMARY:Styrelsemöte
UID:2565@lawebb.se
END:VEVENT
END:VCALENDAR