BEGIN:VCALENDAR
VERSION:2.0
BEGIN:VEVENT
DTSTART;TZID=Europe/Stockholm:20250523T190000
DTEND;TZID=Europe/Stockholm:20250523T200000
DTSTAMP:20260420T161026
DESCRIPTION:
SEQUENCE:0
SUMMARY:Tonår
UID:8472@lawebb.se
END:VEVENT
END:VCALENDAR