BEGIN:VCALENDAR
VERSION:2.0
BEGIN:VEVENT
DTSTART;TZID=Europe/Stockholm:20250524T080000
DTEND;TZID=Europe/Stockholm:20250524T090000
DTSTAMP:20260420T160906
DESCRIPTION:En arbets- och städdag i kyrkan.
Vi börjar med gemensam frukost
SEQUENCE:0
SUMMARY:Arbets- och städdag
UID:5367@lawebb.se
END:VEVENT
END:VCALENDAR