BEGIN:VCALENDAR
VERSION:2.0
BEGIN:VEVENT
DTSTART;TZID=Europe/Stockholm:20250525T160000
DTEND;TZID=Europe/Stockholm:20250525T170000
DTSTAMP:20260420T160744
DESCRIPTION:Predikan: Jonas Berntsson 
Presentation och extra insamling till Goda Nyheter med Göran Edel
Sång & Musik: Maria Hårsmar
Information: Stanley Eklind
SEQUENCE:0
SUMMARY:Gudstjänst med Söndagsskola
UID:8776@lawebb.se
END:VEVENT
END:VCALENDAR