BEGIN:VCALENDAR
VERSION:2.0
BEGIN:VEVENT
DTSTART;TZID=Europe/Stockholm:20250528T193000
DTEND;TZID=Europe/Stockholm:20250528T203000
DTSTAMP:20260420T160734
DESCRIPTION:Öppen kyrka från kl 18
SEQUENCE:0
SUMMARY:Bön i kyrkan
UID:3299@lawebb.se
END:VEVENT
END:VCALENDAR